Workbook

Sheet Consignment
I1: INVOICE ATC LOGISTICS,,8984191006 GST No:21CHVPB1842D2ZQ
A2: IPCA LABORATORIES LTD Address:Muncipality Holding No 446/91 310/4216, Pira Bazar Bhanpur,Cuttack Sadar,9337383991 GST No:21AAACI1220M1Z5 | I2: Bill Date : 31/07/2026 Bill NO : 897 Total Amount : 27724.00
A3: SL | B3: DATE | C3: LR NO | D3: INV NO | E3: FROM | F3: TO | G3: CASE | H3: RATE | I3: HAM | J3: SUB.CH. | K3: LR. CH. | L3: AMT.
A4: 1 | B4: 01/7/2026 | C4: CN-2401 | D4: 3584 | E4: CTC | F4: SORO | G4: 14 | H4: =VLOOKUP(F4,Consignment!$F$4:$H$81,3,FALSE) -> 65 | I4: 14 | J4: =G4*H4*20/100 -> 182 | K4: 25 | L4: =G4*H4+I4+J4+K4 -> 1131
A5: 2 | B5: 01/7/2026 | C5: CN-2402 | D5: 3528 | E5: CTC | F5: BALASORE | G5: 12 | H5: =VLOOKUP(F5,Consignment!$F$4:$H$81,3,FALSE) -> 21.4 | I5: 12 | J5: =G5*H5*20/100 -> 51.36 | K5: 25 | L5: =G5*H5+I5+J5+K5 -> 345.16
A6: 3 | B6: 02/7/2026 | C6: CH/01142 | D6: 3685 | E6: CTC | F6: SORO | G6: 3 | H6: =VLOOKUP(F6,Consignment!$F$4:$H$81,3,FALSE) -> 65 | I6: 3 | J6: =G6*H6*20/100 -> 39 | K6: 25 | L6: =G6*H6+I6+J6+K6 -> 262
A7: 4 | B7: 04/7/2026 | C7: CH/01148 | D7: 6956 | E7: CTC | F7: BARIPADA | G7: 6 | H7: =VLOOKUP(F7,Consignment!$F$4:$H$81,3,FALSE) -> 21.4 | I7: 6 | J7: =G7*H7*20/100 -> 25.68 | K7: 25 | L7: =G7*H7+I7+J7+K7 -> 185.08
A8: 5 | B8: 04/7/2026 | C8: CH/01149 | D8: 2691 | E8: CTC | F8: BALASORE | G8: 4 | H8: =VLOOKUP(F8,Consignment!$F$4:$H$81,3,FALSE) -> 21.4 | I8: 4 | J8: =G8*H8*20/100 -> 17.12 | K8: 25 | L8: =G8*H8+I8+J8+K8 -> 131.72
A9: 6 | B9: 04/7/2026 | C9: CH/01150 | D9: 6982 | E9: CTC | F9: BALASORE | G9: 11 | H9: =VLOOKUP(F9,Consignment!$F$4:$H$81,3,FALSE) -> 21.4 | I9: 11 | J9: =G9*H9*20/100 -> 47.08 | K9: 25 | L9: =G9*H9+I9+J9+K9 -> 318.48
A10: 7 | B10: 04/7/2026 | C10: CH/01151 | D10: 6964 | E10: CTC | F10: BALASORE | G10: 11 | H10: =VLOOKUP(F10,Consignment!$F$4:$H$81,3,FALSE) -> 21.4 | I10: 11 | J10: =G10*H10*20/100 -> 47.08 | K10: 25 | L10: =G10*H10+I10+J10+K10 -> 318.48
A11: 8 | B11: 04/7/2026 | C11: CH/01152 | D11: 6990 | E11: CTC | F11: SORO | G11: 11 | H11: =VLOOKUP(F11,Consignment!$F$4:$H$81,3,FALSE) -> 65 | I11: 11 | J11: =G11*H11*20/100 -> 143 | K11: 25 | L11: =G11*H11+I11+J11+K11 -> 894
A12: 9 | B12: 04/7/2026 | C12: CH/01153 | D12: 7015 | E12: CTC | F12: BARIPADA | G12: 6 | H12: =VLOOKUP(F12,Consignment!$F$4:$H$81,3,FALSE) -> 21.4 | I12: 6 | J12: =G12*H12*20/100 -> 25.68 | K12: 25 | L12: =G12*H12+I12+J12+K12 -> 185.08
A13: 10 | B13: 06/7/2026 | C13: CH/01158 | D13: 2757 | E13: CTC | F13: BALASORE | G13: 1 | H13: =VLOOKUP(F13,Consignment!$F$4:$H$81,3,FALSE) -> 21.4 | I13: 1 | J13: =G13*H13*20/100 -> 4.28 | K13: 25 | L13: =G13*H13+I13+J13+K13 -> 51.68
A14: 11 | B14: 06/7/2026 | C14: CH/01159 | D14: 2728 | E14: CTC | F14: BALASORE | G14: 1 | H14: =VLOOKUP(F14,Consignment!$F$4:$H$81,3,FALSE) -> 21.4 | I14: 1 | J14: =G14*H14*20/100 -> 4.28 | K14: 25 | L14: =G14*H14+I14+J14+K14 -> 51.68
A15: 12 | B15: 06/7/2026 | C15: CH/01160 | D15: 2721 | E15: CTC | F15: BALASORE | G15: 1 | H15: =VLOOKUP(F15,Consignment!$F$4:$H$81,3,FALSE) -> 21.4 | I15: 1 | J15: =G15*H15*20/100 -> 4.28 | K15: 25 | L15: =G15*H15+I15+J15+K15 -> 51.68
... A90: 87 | B90: 02/7/2026 | C90: CN-2428 | D90: 3597 | E90: CTC | F90: BARIPADA | G90: 7 | H90: =VLOOKUP(F90,Consignment!$F$4:$H$81,3,FALSE) -> 21.4 | I90: 7 | J90: =G90*H90*20/100 -> 29.96 | K90: 25 | L90: =G90*H90+I90+J90+K90 -> 211.76
A91: (RUPEES TWENTY SEVEN THOUSAND SEVEN HUNDRED TWENTY FOUR ONLY) | L91: =ROUND(SUM(L4:L90),0) -> 27724
A92: Kindly, verify & confirm within 7 days, else GST will be filed by 20th AUG,2026 GST to be paid by Consignor under Reverse Charge Mechanism(RCM) as per GST.
A93: Thanking you for your business. ATC LOGISTICS
G94: =SUM(G4:G90) -> 745
